BEGIN:VCALENDAR
PRODID:-//AT Content Types//AT Event//EN
VERSION:2.0
METHOD:PUBLISH
BEGIN:VEVENT
DTSTAMP:20260420T085052Z
CREATED:20240102T145804Z
UID:ATEvent-55002ed2d85e4f718af3f4904fcb2922
LAST-MODIFIED:20240809T154046Z
SUMMARY:Sandford-on-Thames
DTSTART:20240120T130000Z
DTEND:20240120T160000Z
DESCRIPTION:Join us at Sandford Village Hall at our drop-in event to c
 hat with us\, ask questions and have your say.  \n\nAddress: Sandford 
 Village Hall\, Henley Road\, OX4 4YN
CLASS:PUBLIC
END:VEVENT
END:VCALENDAR
